BEGIN:VCALENDAR
VERSION:2.0
PRODID:https://www.kufer.de/kuferweb / DE
METHOD:PUBLISH
CALSCALE:GREGORIAN
X-WR-TIMEZONE:Europe/Berlin
BEGIN:VTIMEZONE
TZID:Europe/Berlin
X-LIC-LOCATION:Europe/Berlin
BEGIN:DAYLIGHT
TZOFFSETFROM:+0100
TZOFFSETTO:+0200
TZNAME:CEST
DTSTART:19700329T020000
RRULE:FREQ=YEARLY;INTERVAL=1;BYDAY=-1SU;BYMONTH=3
END:DAYLIGHT
BEGIN:STANDARD
TZOFFSETFROM:+0200
TZOFFSETTO:+0100
TZNAME:CET
DTSTART:19701025T030000
RRULE:FREQ=YEARLY;INTERVAL=1;BYDAY=-1SU;BYMONTH=10
END:STANDARD
END:VTIMEZONE
BEGIN:VEVENT
DTSTAMP:20260424T183421
DTSTART;TZID=Europe/Berlin:20260416T190000
DTEND;TZID=Europe/Berlin:20260416T200000
UID:A2601572-20260416T190000@VHSOBERBERGISCHER KREIS
SUMMARY:Pilates und Co: Kraft, Beweglichkeit und Körperwahrnehmung trainieren (A2601572) 
LOCATION:Bergneustadt, Wüllenweber-Gymnasium, Alte Turnhalle, Am Wäcker 26, Am Wäcker 26, 51702 Bergneustadt
END:VEVENT
BEGIN:VEVENT
DTSTAMP:20260424T183421
DTSTART;TZID=Europe/Berlin:20260423T190000
DTEND;TZID=Europe/Berlin:20260423T200000
UID:A2601572-20260423T190000@VHSOBERBERGISCHER KREIS
SUMMARY:Pilates und Co: Kraft, Beweglichkeit und Körperwahrnehmung trainieren (A2601572) 
LOCATION:Bergneustadt, Wüllenweber-Gymnasium, Alte Turnhalle, Am Wäcker 26, Am Wäcker 26, 51702 Bergneustadt
END:VEVENT
BEGIN:VEVENT
DTSTAMP:20260424T183421
DTSTART;TZID=Europe/Berlin:20260430T190000
DTEND;TZID=Europe/Berlin:20260430T200000
UID:A2601572-20260430T190000@VHSOBERBERGISCHER KREIS
SUMMARY:Pilates und Co: Kraft, Beweglichkeit und Körperwahrnehmung trainieren (A2601572) 
LOCATION:Bergneustadt, Wüllenweber-Gymnasium, Alte Turnhalle, Am Wäcker 26, Am Wäcker 26, 51702 Bergneustadt
END:VEVENT
BEGIN:VEVENT
DTSTAMP:20260424T183421
DTSTART;TZID=Europe/Berlin:20260507T190000
DTEND;TZID=Europe/Berlin:20260507T200000
UID:A2601572-20260507T190000@VHSOBERBERGISCHER KREIS
SUMMARY:Pilates und Co: Kraft, Beweglichkeit und Körperwahrnehmung trainieren (A2601572) 
LOCATION:Bergneustadt, Wüllenweber-Gymnasium, Alte Turnhalle, Am Wäcker 26, Am Wäcker 26, 51702 Bergneustadt
END:VEVENT
BEGIN:VEVENT
DTSTAMP:20260424T183421
DTSTART;TZID=Europe/Berlin:20260521T190000
DTEND;TZID=Europe/Berlin:20260521T200000
UID:A2601572-20260521T190000@VHSOBERBERGISCHER KREIS
SUMMARY:Pilates und Co: Kraft, Beweglichkeit und Körperwahrnehmung trainieren (A2601572) 
LOCATION:Bergneustadt, Wüllenweber-Gymnasium, Alte Turnhalle, Am Wäcker 26, Am Wäcker 26, 51702 Bergneustadt
END:VEVENT
BEGIN:VEVENT
DTSTAMP:20260424T183421
DTSTART;TZID=Europe/Berlin:20260528T190000
DTEND;TZID=Europe/Berlin:20260528T200000
UID:A2601572-20260528T190000@VHSOBERBERGISCHER KREIS
SUMMARY:Pilates und Co: Kraft, Beweglichkeit und Körperwahrnehmung trainieren (A2601572) 
LOCATION:Bergneustadt, Wüllenweber-Gymnasium, Alte Turnhalle, Am Wäcker 26, Am Wäcker 26, 51702 Bergneustadt
END:VEVENT
BEGIN:VEVENT
DTSTAMP:20260424T183421
DTSTART;TZID=Europe/Berlin:20260611T190000
DTEND;TZID=Europe/Berlin:20260611T200000
UID:A2601572-20260611T190000@VHSOBERBERGISCHER KREIS
SUMMARY:Pilates und Co: Kraft, Beweglichkeit und Körperwahrnehmung trainieren (A2601572) 
LOCATION:Bergneustadt, Wüllenweber-Gymnasium, Alte Turnhalle, Am Wäcker 26, Am Wäcker 26, 51702 Bergneustadt
END:VEVENT
BEGIN:VEVENT
DTSTAMP:20260424T183421
DTSTART;TZID=Europe/Berlin:20260618T190000
DTEND;TZID=Europe/Berlin:20260618T200000
UID:A2601572-20260618T190000@VHSOBERBERGISCHER KREIS
SUMMARY:Pilates und Co: Kraft, Beweglichkeit und Körperwahrnehmung trainieren (A2601572) 
LOCATION:Bergneustadt, Wüllenweber-Gymnasium, Alte Turnhalle, Am Wäcker 26, Am Wäcker 26, 51702 Bergneustadt
END:VEVENT
BEGIN:VEVENT
DTSTAMP:20260424T183421
DTSTART;TZID=Europe/Berlin:20260625T190000
DTEND;TZID=Europe/Berlin:20260625T200000
UID:A2601572-20260625T190000@VHSOBERBERGISCHER KREIS
SUMMARY:Pilates und Co: Kraft, Beweglichkeit und Körperwahrnehmung trainieren (A2601572) 
LOCATION:Bergneustadt, Wüllenweber-Gymnasium, Alte Turnhalle, Am Wäcker 26, Am Wäcker 26, 51702 Bergneustadt
END:VEVENT
BEGIN:VEVENT
DTSTAMP:20260424T183421
DTSTART;TZID=Europe/Berlin:20260702T190000
DTEND;TZID=Europe/Berlin:20260702T200000
UID:A2601572-20260702T190000@VHSOBERBERGISCHER KREIS
SUMMARY:Pilates und Co: Kraft, Beweglichkeit und Körperwahrnehmung trainieren (A2601572) 
LOCATION:Bergneustadt, Wüllenweber-Gymnasium, Alte Turnhalle, Am Wäcker 26, Am Wäcker 26, 51702 Bergneustadt
END:VEVENT
END:VCALENDAR