BEGIN:VCALENDAR
VERSION:2.0
PRODID:https://www.kufer.de/kuferweb / DE
METHOD:PUBLISH
CALSCALE:GREGORIAN
X-WR-TIMEZONE:Europe/Berlin
BEGIN:VTIMEZONE
TZID:Europe/Berlin
X-LIC-LOCATION:Europe/Berlin
BEGIN:DAYLIGHT
TZOFFSETFROM:+0100
TZOFFSETTO:+0200
TZNAME:CEST
DTSTART:19700329T020000
RRULE:FREQ=YEARLY;INTERVAL=1;BYDAY=-1SU;BYMONTH=3
END:DAYLIGHT
BEGIN:STANDARD
TZOFFSETFROM:+0200
TZOFFSETTO:+0100
TZNAME:CET
DTSTART:19701025T030000
RRULE:FREQ=YEARLY;INTERVAL=1;BYDAY=-1SU;BYMONTH=10
END:STANDARD
END:VTIMEZONE
BEGIN:VEVENT
DTSTAMP:20260423T225154
DTSTART;TZID=Europe/Berlin:20260627T133000
DTEND;TZID=Europe/Berlin:20260627T163000
UID:A2602726-20260627T133000@VHSOBERBERGISCHER KREIS
SUMMARY:Farbrausch & Pinselmagie: Ein buntes Abenteuer der Acrylmalerei (A2602726) 
LOCATION:Engelskirchen, Jugendzentrum AWO Mehrgenerationenpark Aggerstrand, Kamperstraße 15, 51766 Engelskirchen
END:VEVENT
END:VCALENDAR