BEGIN:VCALENDAR
VERSION:2.0
PRODID:https://www.kufer.de/kuferweb / DE
METHOD:PUBLISH
CALSCALE:GREGORIAN
X-WR-TIMEZONE:Europe/Berlin
BEGIN:VTIMEZONE
TZID:Europe/Berlin
X-LIC-LOCATION:Europe/Berlin
BEGIN:DAYLIGHT
TZOFFSETFROM:+0100
TZOFFSETTO:+0200
TZNAME:CEST
DTSTART:19700329T020000
RRULE:FREQ=YEARLY;INTERVAL=1;BYDAY=-1SU;BYMONTH=3
END:DAYLIGHT
BEGIN:STANDARD
TZOFFSETFROM:+0200
TZOFFSETTO:+0100
TZNAME:CET
DTSTART:19701025T030000
RRULE:FREQ=YEARLY;INTERVAL=1;BYDAY=-1SU;BYMONTH=10
END:STANDARD
END:VTIMEZONE
BEGIN:VEVENT
DTSTAMP:20260425T144353
DTSTART;TZID=Europe/Berlin:20260521T193000
DTEND;TZID=Europe/Berlin:20260521T210000
UID:A2603267-20260521T193000@VHSOBERBERGISCHER KREIS
SUMMARY:Französisch von Anfang an (geringe Vorkenntnisse) (A2603267) 
LOCATION:Hückeswagen, Realschule, Kölner Straße 57, Kölner Straße 57, 42499 Hückeswagen
END:VEVENT
BEGIN:VEVENT
DTSTAMP:20260425T144353
DTSTART;TZID=Europe/Berlin:20260528T193000
DTEND;TZID=Europe/Berlin:20260528T210000
UID:A2603267-20260528T193000@VHSOBERBERGISCHER KREIS
SUMMARY:Französisch von Anfang an (geringe Vorkenntnisse) (A2603267) 
LOCATION:Hückeswagen, Realschule, Kölner Straße 57, Kölner Straße 57, 42499 Hückeswagen
END:VEVENT
BEGIN:VEVENT
DTSTAMP:20260425T144353
DTSTART;TZID=Europe/Berlin:20260611T193000
DTEND;TZID=Europe/Berlin:20260611T210000
UID:A2603267-20260611T193000@VHSOBERBERGISCHER KREIS
SUMMARY:Französisch von Anfang an (geringe Vorkenntnisse) (A2603267) 
LOCATION:Hückeswagen, Realschule, Kölner Straße 57, Kölner Straße 57, 42499 Hückeswagen
END:VEVENT
BEGIN:VEVENT
DTSTAMP:20260425T144353
DTSTART;TZID=Europe/Berlin:20260618T193000
DTEND;TZID=Europe/Berlin:20260618T210000
UID:A2603267-20260618T193000@VHSOBERBERGISCHER KREIS
SUMMARY:Französisch von Anfang an (geringe Vorkenntnisse) (A2603267) 
LOCATION:Hückeswagen, Realschule, Kölner Straße 57, Kölner Straße 57, 42499 Hückeswagen
END:VEVENT
BEGIN:VEVENT
DTSTAMP:20260425T144353
DTSTART;TZID=Europe/Berlin:20260625T193000
DTEND;TZID=Europe/Berlin:20260625T210000
UID:A2603267-20260625T193000@VHSOBERBERGISCHER KREIS
SUMMARY:Französisch von Anfang an (geringe Vorkenntnisse) (A2603267) 
LOCATION:Hückeswagen, Realschule, Kölner Straße 57, Kölner Straße 57, 42499 Hückeswagen
END:VEVENT
BEGIN:VEVENT
DTSTAMP:20260425T144353
DTSTART;TZID=Europe/Berlin:20260702T193000
DTEND;TZID=Europe/Berlin:20260702T210000
UID:A2603267-20260702T193000@VHSOBERBERGISCHER KREIS
SUMMARY:Französisch von Anfang an (geringe Vorkenntnisse) (A2603267) 
LOCATION:Hückeswagen, Realschule, Kölner Straße 57, Kölner Straße 57, 42499 Hückeswagen
END:VEVENT
BEGIN:VEVENT
DTSTAMP:20260425T144353
DTSTART;TZID=Europe/Berlin:20260709T193000
DTEND;TZID=Europe/Berlin:20260709T210000
UID:A2603267-20260709T193000@VHSOBERBERGISCHER KREIS
SUMMARY:Französisch von Anfang an (geringe Vorkenntnisse) (A2603267) 
LOCATION:Hückeswagen, Realschule, Kölner Straße 57, Kölner Straße 57, 42499 Hückeswagen
END:VEVENT
BEGIN:VEVENT
DTSTAMP:20260425T144353
DTSTART;TZID=Europe/Berlin:20260716T193000
DTEND;TZID=Europe/Berlin:20260716T210000
UID:A2603267-20260716T193000@VHSOBERBERGISCHER KREIS
SUMMARY:Französisch von Anfang an (geringe Vorkenntnisse) (A2603267) 
LOCATION:Hückeswagen, Realschule, Kölner Straße 57, Kölner Straße 57, 42499 Hückeswagen
END:VEVENT
END:VCALENDAR