BEGIN:VCALENDAR
VERSION:2.0
PRODID:https://www.kufer.de/kuferweb / DE
METHOD:PUBLISH
CALSCALE:GREGORIAN
X-WR-TIMEZONE:Europe/Berlin
BEGIN:VTIMEZONE
TZID:Europe/Berlin
X-LIC-LOCATION:Europe/Berlin
BEGIN:DAYLIGHT
TZOFFSETFROM:+0100
TZOFFSETTO:+0200
TZNAME:CEST
DTSTART:19700329T020000
RRULE:FREQ=YEARLY;INTERVAL=1;BYDAY=-1SU;BYMONTH=3
END:DAYLIGHT
BEGIN:STANDARD
TZOFFSETFROM:+0200
TZOFFSETTO:+0100
TZNAME:CET
DTSTART:19701025T030000
RRULE:FREQ=YEARLY;INTERVAL=1;BYDAY=-1SU;BYMONTH=10
END:STANDARD
END:VTIMEZONE
BEGIN:VEVENT
DTSTAMP:20260424T171344
DTSTART;TZID=Europe/Berlin:20260413T190000
DTEND;TZID=Europe/Berlin:20260413T200000
UID:A2606555-20260413T190000@VHSOBERBERGISCHER KREIS
SUMMARY:Rückenschule/Rückenfitness (A2606555) 
LOCATION:Morsbach, Gemeinschaftsgrundschule, Gymnastikraum, Hahner Str. 37, Hahnerstr. 37, 51597 Morsbach 
END:VEVENT
BEGIN:VEVENT
DTSTAMP:20260424T171344
DTSTART;TZID=Europe/Berlin:20260420T190000
DTEND;TZID=Europe/Berlin:20260420T200000
UID:A2606555-20260420T190000@VHSOBERBERGISCHER KREIS
SUMMARY:Rückenschule/Rückenfitness (A2606555) 
LOCATION:Morsbach, Gemeinschaftsgrundschule, Gymnastikraum, Hahner Str. 37, Hahnerstr. 37, 51597 Morsbach 
END:VEVENT
BEGIN:VEVENT
DTSTAMP:20260424T171344
DTSTART;TZID=Europe/Berlin:20260427T190000
DTEND;TZID=Europe/Berlin:20260427T200000
UID:A2606555-20260427T190000@VHSOBERBERGISCHER KREIS
SUMMARY:Rückenschule/Rückenfitness (A2606555) 
LOCATION:Morsbach, Gemeinschaftsgrundschule, Gymnastikraum, Hahner Str. 37, Hahnerstr. 37, 51597 Morsbach 
END:VEVENT
BEGIN:VEVENT
DTSTAMP:20260424T171344
DTSTART;TZID=Europe/Berlin:20260504T190000
DTEND;TZID=Europe/Berlin:20260504T200000
UID:A2606555-20260504T190000@VHSOBERBERGISCHER KREIS
SUMMARY:Rückenschule/Rückenfitness (A2606555) 
LOCATION:Morsbach, Gemeinschaftsgrundschule, Gymnastikraum, Hahner Str. 37, Hahnerstr. 37, 51597 Morsbach 
END:VEVENT
BEGIN:VEVENT
DTSTAMP:20260424T171344
DTSTART;TZID=Europe/Berlin:20260511T190000
DTEND;TZID=Europe/Berlin:20260511T200000
UID:A2606555-20260511T190000@VHSOBERBERGISCHER KREIS
SUMMARY:Rückenschule/Rückenfitness (A2606555) 
LOCATION:Morsbach, Gemeinschaftsgrundschule, Gymnastikraum, Hahner Str. 37, Hahnerstr. 37, 51597 Morsbach 
END:VEVENT
BEGIN:VEVENT
DTSTAMP:20260424T171344
DTSTART;TZID=Europe/Berlin:20260518T190000
DTEND;TZID=Europe/Berlin:20260518T200000
UID:A2606555-20260518T190000@VHSOBERBERGISCHER KREIS
SUMMARY:Rückenschule/Rückenfitness (A2606555) 
LOCATION:Morsbach, Gemeinschaftsgrundschule, Gymnastikraum, Hahner Str. 37, Hahnerstr. 37, 51597 Morsbach 
END:VEVENT
BEGIN:VEVENT
DTSTAMP:20260424T171344
DTSTART;TZID=Europe/Berlin:20260601T190000
DTEND;TZID=Europe/Berlin:20260601T200000
UID:A2606555-20260601T190000@VHSOBERBERGISCHER KREIS
SUMMARY:Rückenschule/Rückenfitness (A2606555) 
LOCATION:Morsbach, Gemeinschaftsgrundschule, Gymnastikraum, Hahner Str. 37, Hahnerstr. 37, 51597 Morsbach 
END:VEVENT
BEGIN:VEVENT
DTSTAMP:20260424T171344
DTSTART;TZID=Europe/Berlin:20260608T190000
DTEND;TZID=Europe/Berlin:20260608T200000
UID:A2606555-20260608T190000@VHSOBERBERGISCHER KREIS
SUMMARY:Rückenschule/Rückenfitness (A2606555) 
LOCATION:Morsbach, Gemeinschaftsgrundschule, Gymnastikraum, Hahner Str. 37, Hahnerstr. 37, 51597 Morsbach 
END:VEVENT
BEGIN:VEVENT
DTSTAMP:20260424T171344
DTSTART;TZID=Europe/Berlin:20260615T190000
DTEND;TZID=Europe/Berlin:20260615T200000
UID:A2606555-20260615T190000@VHSOBERBERGISCHER KREIS
SUMMARY:Rückenschule/Rückenfitness (A2606555) 
LOCATION:Morsbach, Gemeinschaftsgrundschule, Gymnastikraum, Hahner Str. 37, Hahnerstr. 37, 51597 Morsbach 
END:VEVENT
BEGIN:VEVENT
DTSTAMP:20260424T171344
DTSTART;TZID=Europe/Berlin:20260622T190000
DTEND;TZID=Europe/Berlin:20260622T200000
UID:A2606555-20260622T190000@VHSOBERBERGISCHER KREIS
SUMMARY:Rückenschule/Rückenfitness (A2606555) 
LOCATION:Morsbach, Gemeinschaftsgrundschule, Gymnastikraum, Hahner Str. 37, Hahnerstr. 37, 51597 Morsbach 
END:VEVENT
END:VCALENDAR