BEGIN:VCALENDAR
VERSION:2.0
PRODID:https://www.kufer.de/kuferweb / DE
METHOD:PUBLISH
CALSCALE:GREGORIAN
X-WR-TIMEZONE:Europe/Berlin
BEGIN:VTIMEZONE
TZID:Europe/Berlin
X-LIC-LOCATION:Europe/Berlin
BEGIN:DAYLIGHT
TZOFFSETFROM:+0100
TZOFFSETTO:+0200
TZNAME:CEST
DTSTART:19700329T020000
RRULE:FREQ=YEARLY;INTERVAL=1;BYDAY=-1SU;BYMONTH=3
END:DAYLIGHT
BEGIN:STANDARD
TZOFFSETFROM:+0200
TZOFFSETTO:+0100
TZNAME:CET
DTSTART:19701025T030000
RRULE:FREQ=YEARLY;INTERVAL=1;BYDAY=-1SU;BYMONTH=10
END:STANDARD
END:VTIMEZONE
BEGIN:VEVENT
DTSTAMP:20260424T172013
DTSTART;TZID=Europe/Berlin:20260413T163000
DTEND;TZID=Europe/Berlin:20260413T173000
UID:A2606609-20260413T163000@VHSOBERBERGISCHER KREIS
SUMMARY:Bewegungsschulung und Gesundheitsvorsorge für Ältere (A2606609) 
LOCATION:Morsbach, Gemeinschaftsgrundschule, Gymnastikraum, Hahner Str. 37, Hahnerstr. 37, 51597 Morsbach 
END:VEVENT
BEGIN:VEVENT
DTSTAMP:20260424T172013
DTSTART;TZID=Europe/Berlin:20260420T163000
DTEND;TZID=Europe/Berlin:20260420T173000
UID:A2606609-20260420T163000@VHSOBERBERGISCHER KREIS
SUMMARY:Bewegungsschulung und Gesundheitsvorsorge für Ältere (A2606609) 
LOCATION:Morsbach, Gemeinschaftsgrundschule, Gymnastikraum, Hahner Str. 37, Hahnerstr. 37, 51597 Morsbach 
END:VEVENT
BEGIN:VEVENT
DTSTAMP:20260424T172013
DTSTART;TZID=Europe/Berlin:20260427T163000
DTEND;TZID=Europe/Berlin:20260427T173000
UID:A2606609-20260427T163000@VHSOBERBERGISCHER KREIS
SUMMARY:Bewegungsschulung und Gesundheitsvorsorge für Ältere (A2606609) 
LOCATION:Morsbach, Gemeinschaftsgrundschule, Gymnastikraum, Hahner Str. 37, Hahnerstr. 37, 51597 Morsbach 
END:VEVENT
BEGIN:VEVENT
DTSTAMP:20260424T172013
DTSTART;TZID=Europe/Berlin:20260504T163000
DTEND;TZID=Europe/Berlin:20260504T173000
UID:A2606609-20260504T163000@VHSOBERBERGISCHER KREIS
SUMMARY:Bewegungsschulung und Gesundheitsvorsorge für Ältere (A2606609) 
LOCATION:Morsbach, Gemeinschaftsgrundschule, Gymnastikraum, Hahner Str. 37, Hahnerstr. 37, 51597 Morsbach 
END:VEVENT
BEGIN:VEVENT
DTSTAMP:20260424T172013
DTSTART;TZID=Europe/Berlin:20260511T163000
DTEND;TZID=Europe/Berlin:20260511T173000
UID:A2606609-20260511T163000@VHSOBERBERGISCHER KREIS
SUMMARY:Bewegungsschulung und Gesundheitsvorsorge für Ältere (A2606609) 
LOCATION:Morsbach, Gemeinschaftsgrundschule, Gymnastikraum, Hahner Str. 37, Hahnerstr. 37, 51597 Morsbach 
END:VEVENT
BEGIN:VEVENT
DTSTAMP:20260424T172013
DTSTART;TZID=Europe/Berlin:20260518T163000
DTEND;TZID=Europe/Berlin:20260518T173000
UID:A2606609-20260518T163000@VHSOBERBERGISCHER KREIS
SUMMARY:Bewegungsschulung und Gesundheitsvorsorge für Ältere (A2606609) 
LOCATION:Morsbach, Gemeinschaftsgrundschule, Gymnastikraum, Hahner Str. 37, Hahnerstr. 37, 51597 Morsbach 
END:VEVENT
BEGIN:VEVENT
DTSTAMP:20260424T172013
DTSTART;TZID=Europe/Berlin:20260601T163000
DTEND;TZID=Europe/Berlin:20260601T173000
UID:A2606609-20260601T163000@VHSOBERBERGISCHER KREIS
SUMMARY:Bewegungsschulung und Gesundheitsvorsorge für Ältere (A2606609) 
LOCATION:Morsbach, Gemeinschaftsgrundschule, Gymnastikraum, Hahner Str. 37, Hahnerstr. 37, 51597 Morsbach 
END:VEVENT
BEGIN:VEVENT
DTSTAMP:20260424T172013
DTSTART;TZID=Europe/Berlin:20260615T163000
DTEND;TZID=Europe/Berlin:20260615T173000
UID:A2606609-20260615T163000@VHSOBERBERGISCHER KREIS
SUMMARY:Bewegungsschulung und Gesundheitsvorsorge für Ältere (A2606609) 
LOCATION:Morsbach, Gemeinschaftsgrundschule, Gymnastikraum, Hahner Str. 37, Hahnerstr. 37, 51597 Morsbach 
END:VEVENT
END:VCALENDAR