BEGIN:VCALENDAR
VERSION:2.0
PRODID:https://www.kufer.de/kuferweb / DE
METHOD:PUBLISH
CALSCALE:GREGORIAN
X-WR-TIMEZONE:Europe/Berlin
BEGIN:VTIMEZONE
TZID:Europe/Berlin
X-LIC-LOCATION:Europe/Berlin
BEGIN:DAYLIGHT
TZOFFSETFROM:+0100
TZOFFSETTO:+0200
TZNAME:CEST
DTSTART:19700329T020000
RRULE:FREQ=YEARLY;INTERVAL=1;BYDAY=-1SU;BYMONTH=3
END:DAYLIGHT
BEGIN:STANDARD
TZOFFSETFROM:+0200
TZOFFSETTO:+0100
TZNAME:CET
DTSTART:19701025T030000
RRULE:FREQ=YEARLY;INTERVAL=1;BYDAY=-1SU;BYMONTH=10
END:STANDARD
END:VTIMEZONE
BEGIN:VEVENT
DTSTAMP:20260424T172411
DTSTART;TZID=Europe/Berlin:20260413T193000
DTEND;TZID=Europe/Berlin:20260413T203000
UID:A2607573-20260413T193000@VHSOBERBERGISCHER KREIS
SUMMARY:Wirbelsäulengymnastik (A2607573) 
LOCATION:Nümbrecht, Dorfhaus Gaderoth, Rolandsborn 14, 51588 Nümbrecht
END:VEVENT
BEGIN:VEVENT
DTSTAMP:20260424T172411
DTSTART;TZID=Europe/Berlin:20260420T193000
DTEND;TZID=Europe/Berlin:20260420T203000
UID:A2607573-20260420T193000@VHSOBERBERGISCHER KREIS
SUMMARY:Wirbelsäulengymnastik (A2607573) 
LOCATION:Nümbrecht, Dorfhaus Gaderoth, Rolandsborn 14, 51588 Nümbrecht
END:VEVENT
BEGIN:VEVENT
DTSTAMP:20260424T172411
DTSTART;TZID=Europe/Berlin:20260427T193000
DTEND;TZID=Europe/Berlin:20260427T203000
UID:A2607573-20260427T193000@VHSOBERBERGISCHER KREIS
SUMMARY:Wirbelsäulengymnastik (A2607573) 
LOCATION:Nümbrecht, Dorfhaus Gaderoth, Rolandsborn 14, 51588 Nümbrecht
END:VEVENT
BEGIN:VEVENT
DTSTAMP:20260424T172411
DTSTART;TZID=Europe/Berlin:20260504T193000
DTEND;TZID=Europe/Berlin:20260504T203000
UID:A2607573-20260504T193000@VHSOBERBERGISCHER KREIS
SUMMARY:Wirbelsäulengymnastik (A2607573) 
LOCATION:Nümbrecht, Dorfhaus Gaderoth, Rolandsborn 14, 51588 Nümbrecht
END:VEVENT
BEGIN:VEVENT
DTSTAMP:20260424T172411
DTSTART;TZID=Europe/Berlin:20260511T193000
DTEND;TZID=Europe/Berlin:20260511T203000
UID:A2607573-20260511T193000@VHSOBERBERGISCHER KREIS
SUMMARY:Wirbelsäulengymnastik (A2607573) 
LOCATION:Nümbrecht, Dorfhaus Gaderoth, Rolandsborn 14, 51588 Nümbrecht
END:VEVENT
BEGIN:VEVENT
DTSTAMP:20260424T172411
DTSTART;TZID=Europe/Berlin:20260518T193000
DTEND;TZID=Europe/Berlin:20260518T203000
UID:A2607573-20260518T193000@VHSOBERBERGISCHER KREIS
SUMMARY:Wirbelsäulengymnastik (A2607573) 
LOCATION:Nümbrecht, Dorfhaus Gaderoth, Rolandsborn 14, 51588 Nümbrecht
END:VEVENT
BEGIN:VEVENT
DTSTAMP:20260424T172411
DTSTART;TZID=Europe/Berlin:20260615T193000
DTEND;TZID=Europe/Berlin:20260615T203000
UID:A2607573-20260615T193000@VHSOBERBERGISCHER KREIS
SUMMARY:Wirbelsäulengymnastik (A2607573) 
LOCATION:Nümbrecht, Dorfhaus Gaderoth, Rolandsborn 14, 51588 Nümbrecht
END:VEVENT
BEGIN:VEVENT
DTSTAMP:20260424T172411
DTSTART;TZID=Europe/Berlin:20260622T193000
DTEND;TZID=Europe/Berlin:20260622T203000
UID:A2607573-20260622T193000@VHSOBERBERGISCHER KREIS
SUMMARY:Wirbelsäulengymnastik (A2607573) 
LOCATION:Nümbrecht, Dorfhaus Gaderoth, Rolandsborn 14, 51588 Nümbrecht
END:VEVENT
BEGIN:VEVENT
DTSTAMP:20260424T172411
DTSTART;TZID=Europe/Berlin:20260629T193000
DTEND;TZID=Europe/Berlin:20260629T203000
UID:A2607573-20260629T193000@VHSOBERBERGISCHER KREIS
SUMMARY:Wirbelsäulengymnastik (A2607573) 
LOCATION:Nümbrecht, Dorfhaus Gaderoth, Rolandsborn 14, 51588 Nümbrecht
END:VEVENT
BEGIN:VEVENT
DTSTAMP:20260424T172411
DTSTART;TZID=Europe/Berlin:20260706T193000
DTEND;TZID=Europe/Berlin:20260706T203000
UID:A2607573-20260706T193000@VHSOBERBERGISCHER KREIS
SUMMARY:Wirbelsäulengymnastik (A2607573) 
LOCATION:Nümbrecht, Dorfhaus Gaderoth, Rolandsborn 14, 51588 Nümbrecht
END:VEVENT
END:VCALENDAR