BEGIN:VCALENDAR
VERSION:2.0
PRODID:https://www.kufer.de/kuferweb / DE
METHOD:PUBLISH
CALSCALE:GREGORIAN
X-WR-TIMEZONE:Europe/Berlin
BEGIN:VTIMEZONE
TZID:Europe/Berlin
X-LIC-LOCATION:Europe/Berlin
BEGIN:DAYLIGHT
TZOFFSETFROM:+0100
TZOFFSETTO:+0200
TZNAME:CEST
DTSTART:19700329T020000
RRULE:FREQ=YEARLY;INTERVAL=1;BYDAY=-1SU;BYMONTH=3
END:DAYLIGHT
BEGIN:STANDARD
TZOFFSETFROM:+0200
TZOFFSETTO:+0100
TZNAME:CET
DTSTART:19701025T030000
RRULE:FREQ=YEARLY;INTERVAL=1;BYDAY=-1SU;BYMONTH=10
END:STANDARD
END:VTIMEZONE
BEGIN:VEVENT
DTSTAMP:20260424T172135
DTSTART;TZID=Europe/Berlin:20260413T170000
DTEND;TZID=Europe/Berlin:20260413T180000
UID:A2607575-20260413T170000@VHSOBERBERGISCHER KREIS
SUMMARY:Pilates und Co: Kraft, Beweglichkeit und Körperwahrnehmung trainieren (A2607575) 
LOCATION:Nümbrecht, Dorfhaus Gaderoth, Rolandsborn 14, 51588 Nümbrecht
END:VEVENT
BEGIN:VEVENT
DTSTAMP:20260424T172135
DTSTART;TZID=Europe/Berlin:20260420T170000
DTEND;TZID=Europe/Berlin:20260420T180000
UID:A2607575-20260420T170000@VHSOBERBERGISCHER KREIS
SUMMARY:Pilates und Co: Kraft, Beweglichkeit und Körperwahrnehmung trainieren (A2607575) 
LOCATION:Nümbrecht, Dorfhaus Gaderoth, Rolandsborn 14, 51588 Nümbrecht
END:VEVENT
BEGIN:VEVENT
DTSTAMP:20260424T172135
DTSTART;TZID=Europe/Berlin:20260427T170000
DTEND;TZID=Europe/Berlin:20260427T180000
UID:A2607575-20260427T170000@VHSOBERBERGISCHER KREIS
SUMMARY:Pilates und Co: Kraft, Beweglichkeit und Körperwahrnehmung trainieren (A2607575) 
LOCATION:Nümbrecht, Dorfhaus Gaderoth, Rolandsborn 14, 51588 Nümbrecht
END:VEVENT
BEGIN:VEVENT
DTSTAMP:20260424T172135
DTSTART;TZID=Europe/Berlin:20260504T170000
DTEND;TZID=Europe/Berlin:20260504T180000
UID:A2607575-20260504T170000@VHSOBERBERGISCHER KREIS
SUMMARY:Pilates und Co: Kraft, Beweglichkeit und Körperwahrnehmung trainieren (A2607575) 
LOCATION:Nümbrecht, Dorfhaus Gaderoth, Rolandsborn 14, 51588 Nümbrecht
END:VEVENT
BEGIN:VEVENT
DTSTAMP:20260424T172135
DTSTART;TZID=Europe/Berlin:20260511T170000
DTEND;TZID=Europe/Berlin:20260511T180000
UID:A2607575-20260511T170000@VHSOBERBERGISCHER KREIS
SUMMARY:Pilates und Co: Kraft, Beweglichkeit und Körperwahrnehmung trainieren (A2607575) 
LOCATION:Nümbrecht, Dorfhaus Gaderoth, Rolandsborn 14, 51588 Nümbrecht
END:VEVENT
BEGIN:VEVENT
DTSTAMP:20260424T172135
DTSTART;TZID=Europe/Berlin:20260518T170000
DTEND;TZID=Europe/Berlin:20260518T180000
UID:A2607575-20260518T170000@VHSOBERBERGISCHER KREIS
SUMMARY:Pilates und Co: Kraft, Beweglichkeit und Körperwahrnehmung trainieren (A2607575) 
LOCATION:Nümbrecht, Dorfhaus Gaderoth, Rolandsborn 14, 51588 Nümbrecht
END:VEVENT
BEGIN:VEVENT
DTSTAMP:20260424T172135
DTSTART;TZID=Europe/Berlin:20260601T170000
DTEND;TZID=Europe/Berlin:20260601T180000
UID:A2607575-20260601T170000@VHSOBERBERGISCHER KREIS
SUMMARY:Pilates und Co: Kraft, Beweglichkeit und Körperwahrnehmung trainieren (A2607575) 
LOCATION:Nümbrecht, Dorfhaus Gaderoth, Rolandsborn 14, 51588 Nümbrecht
END:VEVENT
BEGIN:VEVENT
DTSTAMP:20260424T172135
DTSTART;TZID=Europe/Berlin:20260608T170000
DTEND;TZID=Europe/Berlin:20260608T180000
UID:A2607575-20260608T170000@VHSOBERBERGISCHER KREIS
SUMMARY:Pilates und Co: Kraft, Beweglichkeit und Körperwahrnehmung trainieren (A2607575) 
LOCATION:Nümbrecht, Dorfhaus Gaderoth, Rolandsborn 14, 51588 Nümbrecht
END:VEVENT
BEGIN:VEVENT
DTSTAMP:20260424T172135
DTSTART;TZID=Europe/Berlin:20260615T170000
DTEND;TZID=Europe/Berlin:20260615T180000
UID:A2607575-20260615T170000@VHSOBERBERGISCHER KREIS
SUMMARY:Pilates und Co: Kraft, Beweglichkeit und Körperwahrnehmung trainieren (A2607575) 
LOCATION:Nümbrecht, Dorfhaus Gaderoth, Rolandsborn 14, 51588 Nümbrecht
END:VEVENT
BEGIN:VEVENT
DTSTAMP:20260424T172135
DTSTART;TZID=Europe/Berlin:20260622T170000
DTEND;TZID=Europe/Berlin:20260622T180000
UID:A2607575-20260622T170000@VHSOBERBERGISCHER KREIS
SUMMARY:Pilates und Co: Kraft, Beweglichkeit und Körperwahrnehmung trainieren (A2607575) 
LOCATION:Nümbrecht, Dorfhaus Gaderoth, Rolandsborn 14, 51588 Nümbrecht
END:VEVENT
BEGIN:VEVENT
DTSTAMP:20260424T172135
DTSTART;TZID=Europe/Berlin:20260629T170000
DTEND;TZID=Europe/Berlin:20260629T180000
UID:A2607575-20260629T170000@VHSOBERBERGISCHER KREIS
SUMMARY:Pilates und Co: Kraft, Beweglichkeit und Körperwahrnehmung trainieren (A2607575) 
LOCATION:Nümbrecht, Dorfhaus Gaderoth, Rolandsborn 14, 51588 Nümbrecht
END:VEVENT
END:VCALENDAR