BEGIN:VCALENDAR
VERSION:2.0
PRODID:https://www.kufer.de/kuferweb / DE
METHOD:PUBLISH
CALSCALE:GREGORIAN
X-WR-TIMEZONE:Europe/Berlin
BEGIN:VTIMEZONE
TZID:Europe/Berlin
X-LIC-LOCATION:Europe/Berlin
BEGIN:DAYLIGHT
TZOFFSETFROM:+0100
TZOFFSETTO:+0200
TZNAME:CEST
DTSTART:19700329T020000
RRULE:FREQ=YEARLY;INTERVAL=1;BYDAY=-1SU;BYMONTH=3
END:DAYLIGHT
BEGIN:STANDARD
TZOFFSETFROM:+0200
TZOFFSETTO:+0100
TZNAME:CET
DTSTART:19701025T030000
RRULE:FREQ=YEARLY;INTERVAL=1;BYDAY=-1SU;BYMONTH=10
END:STANDARD
END:VTIMEZONE
BEGIN:VEVENT
DTSTAMP:20260423T035808
DTSTART;TZID=Europe/Berlin:20260718T110000
DTEND;TZID=Europe/Berlin:20260718T163000
UID:A2610730-20260718T110000@VHSOBERBERGISCHER KREIS
SUMMARY:Einführung in die Aquarellmalerei (A2610730) 
LOCATION:Waldbröl, Kunstatelier & Skulpturengarten, Wilhelmsthal 1, Wilhelmsthal 1, 51545 Waldbröl
END:VEVENT
END:VCALENDAR