BEGIN:VCALENDAR
VERSION:2.0
PRODID:https://www.kufer.de/kuferweb / DE
METHOD:PUBLISH
CALSCALE:GREGORIAN
X-WR-TIMEZONE:Europe/Berlin
BEGIN:VTIMEZONE
TZID:Europe/Berlin
X-LIC-LOCATION:Europe/Berlin
BEGIN:DAYLIGHT
TZOFFSETFROM:+0100
TZOFFSETTO:+0200
TZNAME:CEST
DTSTART:19700329T020000
RRULE:FREQ=YEARLY;INTERVAL=1;BYDAY=-1SU;BYMONTH=3
END:DAYLIGHT
BEGIN:STANDARD
TZOFFSETFROM:+0200
TZOFFSETTO:+0100
TZNAME:CET
DTSTART:19701025T030000
RRULE:FREQ=YEARLY;INTERVAL=1;BYDAY=-1SU;BYMONTH=10
END:STANDARD
END:VTIMEZONE
BEGIN:VEVENT
DTSTAMP:20260423T170716
DTSTART;TZID=Europe/Berlin:20260615T090000
DTEND;TZID=Europe/Berlin:20260615T161500
UID:A2614380-20260615T090000@VHSOBERBERGISCHER KREIS
SUMMARY:WordPress - der Weg zur eigenen Webseite - Bildungsurlaub, Intensivkurs (online) (A2614380) 
LOCATION:Zentrale, Online
END:VEVENT
BEGIN:VEVENT
DTSTAMP:20260423T170716
DTSTART;TZID=Europe/Berlin:20260616T090000
DTEND;TZID=Europe/Berlin:20260616T161500
UID:A2614380-20260616T090000@VHSOBERBERGISCHER KREIS
SUMMARY:WordPress - der Weg zur eigenen Webseite - Bildungsurlaub, Intensivkurs (online) (A2614380) 
LOCATION:Zentrale, Online
END:VEVENT
BEGIN:VEVENT
DTSTAMP:20260423T170716
DTSTART;TZID=Europe/Berlin:20260617T090000
DTEND;TZID=Europe/Berlin:20260617T161500
UID:A2614380-20260617T090000@VHSOBERBERGISCHER KREIS
SUMMARY:WordPress - der Weg zur eigenen Webseite - Bildungsurlaub, Intensivkurs (online) (A2614380) 
LOCATION:Zentrale, Online
END:VEVENT
BEGIN:VEVENT
DTSTAMP:20260423T170716
DTSTART;TZID=Europe/Berlin:20260618T090000
DTEND;TZID=Europe/Berlin:20260618T161500
UID:A2614380-20260618T090000@VHSOBERBERGISCHER KREIS
SUMMARY:WordPress - der Weg zur eigenen Webseite - Bildungsurlaub, Intensivkurs (online) (A2614380) 
LOCATION:Zentrale, Online
END:VEVENT
BEGIN:VEVENT
DTSTAMP:20260423T170716
DTSTART;TZID=Europe/Berlin:20260619T090000
DTEND;TZID=Europe/Berlin:20260619T161500
UID:A2614380-20260619T090000@VHSOBERBERGISCHER KREIS
SUMMARY:WordPress - der Weg zur eigenen Webseite - Bildungsurlaub, Intensivkurs (online) (A2614380) 
LOCATION:Zentrale, Online
END:VEVENT
END:VCALENDAR